BEGIN:VCALENDAR
VERSION:2.0
PRODID:-//North Central Area Agency on Aging - ECPv6.15.20//NONSGML v1.0//EN
CALSCALE:GREGORIAN
METHOD:PUBLISH
X-ORIGINAL-URL:https://ncaaact.org
X-WR-CALDESC:Events for North Central Area Agency on Aging
REFRESH-INTERVAL;VALUE=DURATION:PT1H
X-Robots-Tag:noindex
X-PUBLISHED-TTL:PT1H
BEGIN:VTIMEZONE
TZID:America/New_York
BEGIN:DAYLIGHT
TZOFFSETFROM:-0500
TZOFFSETTO:-0400
TZNAME:EDT
DTSTART:20240310T070000
END:DAYLIGHT
BEGIN:STANDARD
TZOFFSETFROM:-0400
TZOFFSETTO:-0500
TZNAME:EST
DTSTART:20241103T060000
END:STANDARD
BEGIN:DAYLIGHT
TZOFFSETFROM:-0500
TZOFFSETTO:-0400
TZNAME:EDT
DTSTART:20250309T070000
END:DAYLIGHT
BEGIN:STANDARD
TZOFFSETFROM:-0400
TZOFFSETTO:-0500
TZNAME:EST
DTSTART:20251102T060000
END:STANDARD
BEGIN:DAYLIGHT
TZOFFSETFROM:-0500
TZOFFSETTO:-0400
TZNAME:EDT
DTSTART:20260308T070000
END:DAYLIGHT
BEGIN:STANDARD
TZOFFSETFROM:-0400
TZOFFSETTO:-0500
TZNAME:EST
DTSTART:20261101T060000
END:STANDARD
END:VTIMEZONE
BEGIN:VEVENT
DTSTART;VALUE=DATE:20250909
DTEND;VALUE=DATE:20250912
DTSTAMP:20260420T102634
CREATED:20250128T161116Z
LAST-MODIFIED:20250128T164926Z
UID:4692-1757376000-1757635199@ncaaact.org
SUMMARY:CHOICES / SHIP Counselor Training (Live-Virtual) Summer / Fall Session
DESCRIPTION:The September 9th\, 10th and 11th live training sessions are virtual from 9am to 3pm.  \nPre-Registration is due July 15th\, 2025.  Required virtual orientation is on August 5th\, 2025 (9am-11am). \nPlease see attachments below… \nFor Volunteers \nFor Community Providers \n 
URL:https://ncaaact.org/event/choices-ship-counselor-training-in-person-summer-fall-session/
ORGANIZER;CN="Urania Reyes":MAILTO:urania.reyes@ncaaact.org
END:VEVENT
END:VCALENDAR