BEGIN:VCALENDAR
VERSION:2.0
PRODID:-//North Central Area Agency on Aging - ECPv6.15.20//NONSGML v1.0//EN
CALSCALE:GREGORIAN
METHOD:PUBLISH
X-ORIGINAL-URL:https://ncaaact.org
X-WR-CALDESC:Events for North Central Area Agency on Aging
REFRESH-INTERVAL;VALUE=DURATION:PT1H
X-Robots-Tag:noindex
X-PUBLISHED-TTL:PT1H
BEGIN:VTIMEZONE
TZID:America/New_York
BEGIN:DAYLIGHT
TZOFFSETFROM:-0500
TZOFFSETTO:-0400
TZNAME:EDT
DTSTART:20230312T070000
END:DAYLIGHT
BEGIN:STANDARD
TZOFFSETFROM:-0400
TZOFFSETTO:-0500
TZNAME:EST
DTSTART:20231105T060000
END:STANDARD
BEGIN:DAYLIGHT
TZOFFSETFROM:-0500
TZOFFSETTO:-0400
TZNAME:EDT
DTSTART:20240310T070000
END:DAYLIGHT
BEGIN:STANDARD
TZOFFSETFROM:-0400
TZOFFSETTO:-0500
TZNAME:EST
DTSTART:20241103T060000
END:STANDARD
BEGIN:DAYLIGHT
TZOFFSETFROM:-0500
TZOFFSETTO:-0400
TZNAME:EDT
DTSTART:20250309T070000
END:DAYLIGHT
BEGIN:STANDARD
TZOFFSETFROM:-0400
TZOFFSETTO:-0500
TZNAME:EST
DTSTART:20251102T060000
END:STANDARD
END:VTIMEZONE
BEGIN:VEVENT
DTSTART;TZID=America/New_York:20241115T100000
DTEND;TZID=America/New_York:20241115T123000
DTSTAMP:20260421T042104
CREATED:20240821T195647Z
LAST-MODIFIED:20240821T195647Z
UID:4590-1731664800-1731673800@ncaaact.org
SUMMARY:Live Well w/ Chronic Conditions Workshop (In-Person)
DESCRIPTION:Registration required.  Please contact Stephanie Famiano\, Windsor Senior Center.  famiano@townofwindsorct.com
URL:https://ncaaact.org/event/live-well-w-chronic-conditions-workshop-in-person-2/
LOCATION:WINDSOR SENIOR CENTER\, 599 MATIANUCK AVENUE
ORGANIZER;CN="Stephanie Famiano":MAILTO:famiano@townofwindsorct.com
END:VEVENT
END:VCALENDAR